BEGIN:VCALENDAR
VERSION:2.0
PRODID:-//Pick up Ramblers - ECPv5.10.0//NONSGML v1.0//EN
CALSCALE:GREGORIAN
METHOD:PUBLISH
X-WR-CALNAME:Pick up Ramblers
X-ORIGINAL-URL:http://pick-up-ramblers.de
X-WR-CALDESC:Veranstaltungen für Pick up Ramblers
BEGIN:VTIMEZONE
TZID:Europe/Berlin
BEGIN:DAYLIGHT
TZOFFSETFROM:+0100
TZOFFSETTO:+0200
TZNAME:CEST
DTSTART:20250330T010000
END:DAYLIGHT
BEGIN:STANDARD
TZOFFSETFROM:+0200
TZOFFSETTO:+0100
TZNAME:CET
DTSTART:20251026T010000
END:STANDARD
END:VTIMEZONE
BEGIN:VEVENT
DTSTART;TZID=Europe/Berlin:20251221T170000
DTEND;TZID=Europe/Berlin:20251221T183000
DTSTAMP:20260422T141759
CREATED:20231006T142913Z
LAST-MODIFIED:20251219T142720Z
UID:759-1766336400-1766341800@pick-up-ramblers.de
SUMMARY:Pick Up Ramblers
DESCRIPTION:
URL:http://pick-up-ramblers.de/?tribe_events=weihnachtsinsel-augsburg-2
LOCATION:Weihnachtsinsel am Zeugplatz Augsburg\, Eintritt frei auf Spendenbasis -\, 86150 Augsburg\, Deutschland
END:VEVENT
END:VCALENDAR