BEGIN:VCALENDAR
VERSION:2.0
PRODID:-//Pick up Ramblers - ECPv5.10.0//NONSGML v1.0//EN
CALSCALE:GREGORIAN
METHOD:PUBLISH
X-WR-CALNAME:Pick up Ramblers
X-ORIGINAL-URL:http://pick-up-ramblers.de
X-WR-CALDESC:Veranstaltungen für Pick up Ramblers
BEGIN:VTIMEZONE
TZID:Europe/Berlin
BEGIN:DAYLIGHT
TZOFFSETFROM:+0100
TZOFFSETTO:+0200
TZNAME:CEST
DTSTART:20250330T010000
END:DAYLIGHT
BEGIN:STANDARD
TZOFFSETFROM:+0200
TZOFFSETTO:+0100
TZNAME:CET
DTSTART:20251026T010000
END:STANDARD
END:VTIMEZONE
BEGIN:VEVENT
DTSTART;TZID=Europe/Berlin:20250727T180000
DTEND;TZID=Europe/Berlin:20250727T210000
DTSTAMP:20260422T220537
CREATED:20250311T210444Z
LAST-MODIFIED:20250725T104930Z
UID:813-1753639200-1753650000@pick-up-ramblers.de
SUMMARY:Pickup-Ramblers
DESCRIPTION:
URL:http://pick-up-ramblers.de/?tribe_events=pickup-ramblers-live-im-biergarten
LOCATION:Biergarten der Gaststätte zum IBL\,\, Am Sportheim 1\, 89440 Lutzingen\, Deutschland
END:VEVENT
END:VCALENDAR