BEGIN:VCALENDAR
VERSION:2.0
PRODID:-//Pick up Ramblers - ECPv5.10.0//NONSGML v1.0//EN
CALSCALE:GREGORIAN
METHOD:PUBLISH
X-WR-CALNAME:Pick up Ramblers
X-ORIGINAL-URL:http://pick-up-ramblers.de
X-WR-CALDESC:Veranstaltungen für Pick up Ramblers
BEGIN:VTIMEZONE
TZID:Europe/Berlin
BEGIN:DAYLIGHT
TZOFFSETFROM:+0100
TZOFFSETTO:+0200
TZNAME:CEST
DTSTART:20270328T010000
END:DAYLIGHT
BEGIN:STANDARD
TZOFFSETFROM:+0200
TZOFFSETTO:+0100
TZNAME:CET
DTSTART:20271031T010000
END:STANDARD
END:VTIMEZONE
BEGIN:VEVENT
DTSTART;TZID=Europe/Berlin:20270306T203000
DTEND;TZID=Europe/Berlin:20270306T233000
DTSTAMP:20260424T131830
CREATED:20260316T191230Z
LAST-MODIFIED:20260316T193527Z
UID:868-1804365000-1804375800@pick-up-ramblers.de
SUMMARY:Pick-Up Ramblers
DESCRIPTION:
URL:http://pick-up-ramblers.de/?tribe_events=pick-up-ramblers-4
LOCATION:Okee Dokee\, Ahornweg 1\, Au in der Hallertau\, Bayern\, 84072
END:VEVENT
END:VCALENDAR