BEGIN:VCALENDAR
VERSION:2.0
PRODID:-//Pick up Ramblers - ECPv5.10.0//NONSGML v1.0//EN
CALSCALE:GREGORIAN
METHOD:PUBLISH
X-WR-CALNAME:Pick up Ramblers
X-ORIGINAL-URL:http://pick-up-ramblers.de
X-WR-CALDESC:Veranstaltungen für Pick up Ramblers
BEGIN:VTIMEZONE
TZID:Europe/Berlin
BEGIN:DAYLIGHT
TZOFFSETFROM:+0100
TZOFFSETTO:+0200
TZNAME:CEST
DTSTART:20260329T010000
END:DAYLIGHT
BEGIN:STANDARD
TZOFFSETFROM:+0200
TZOFFSETTO:+0100
TZNAME:CET
DTSTART:20261025T010000
END:STANDARD
END:VTIMEZONE
BEGIN:VEVENT
DTSTART;TZID=Europe/Berlin:20261114T203000
DTEND;TZID=Europe/Berlin:20261114T233000
DTSTAMP:20260422T124258
CREATED:20260316T185728Z
LAST-MODIFIED:20260316T193431Z
UID:866-1794688200-1794699000@pick-up-ramblers.de
SUMMARY:Pick-Up Ramblers
DESCRIPTION:
URL:http://pick-up-ramblers.de/?tribe_events=pick-up-ramblers-3
LOCATION:Okee Dokee\, Ahornweg 1\, Au in der Hallertau\, Bayern\, 84072
END:VEVENT
END:VCALENDAR