BEGIN:VCALENDAR
VERSION:2.0
PRODID:-//Pick up Ramblers - ECPv5.10.0//NONSGML v1.0//EN
CALSCALE:GREGORIAN
METHOD:PUBLISH
X-WR-CALNAME:Pick up Ramblers
X-ORIGINAL-URL:http://pick-up-ramblers.de
X-WR-CALDESC:Veranstaltungen für Pick up Ramblers
BEGIN:VTIMEZONE
TZID:Europe/Berlin
BEGIN:DAYLIGHT
TZOFFSETFROM:+0100
TZOFFSETTO:+0200
TZNAME:CEST
DTSTART:20250330T010000
END:DAYLIGHT
BEGIN:STANDARD
TZOFFSETFROM:+0200
TZOFFSETTO:+0100
TZNAME:CET
DTSTART:20251026T010000
END:STANDARD
END:VTIMEZONE
BEGIN:VEVENT
DTSTART;TZID=Europe/Berlin:20250802T203000
DTEND;TZID=Europe/Berlin:20250802T233000
DTSTAMP:20260422T190135
CREATED:20250119T205212Z
LAST-MODIFIED:20250706T201619Z
UID:807-1754166600-1754177400@pick-up-ramblers.de
SUMMARY:Pick Up Ramblers
DESCRIPTION:
URL:http://pick-up-ramblers.de/?tribe_events=pick-up-ramblers-2
LOCATION:Bombig Bar & Garage\,\, Gubener Str. 11\, 86156 Augsburg
END:VEVENT
END:VCALENDAR